BEGIN:VCALENDAR
VERSION:2.0
PRODID:-//Pakistan Abroad - ECPv6.15.20//NONSGML v1.0//EN
CALSCALE:GREGORIAN
METHOD:PUBLISH
X-ORIGINAL-URL:https://www.pakistanabroad.com
X-WR-CALDESC:Events for Pakistan Abroad
REFRESH-INTERVAL;VALUE=DURATION:PT1H
X-Robots-Tag:noindex
X-PUBLISHED-TTL:PT1H
BEGIN:VTIMEZONE
TZID:UTC
BEGIN:STANDARD
TZOFFSETFROM:+0000
TZOFFSETTO:+0000
TZNAME:UTC
DTSTART:20220101T000000
END:STANDARD
END:VTIMEZONE
BEGIN:VEVENT
DTSTART;VALUE=DATE:20231104
DTEND;VALUE=DATE:20231218
DTSTAMP:20260425T205303
CREATED:20231203T115657Z
LAST-MODIFIED:20231204T050247Z
UID:841-1699056000-1702857599@www.pakistanabroad.com
SUMMARY:Seung Jae Kim: Misread Affinity
DESCRIPTION:Content is protected.
URL:https://www.pakistanabroad.com/event/seung-jae-kim-misread-affinity/
LOCATION:Evanston Art Center\, 1717 Central Street Evanston\,IL60201\, Chicago\, 60201\, United States
CATEGORIES:MUSEUMS, GALLERIES & EXHIBITIONS
ORGANIZER;CN="Evanston Art Center":MAILTO:egudewicz@evanstonartcenter.org
END:VEVENT
END:VCALENDAR